BEGIN:VCALENDAR
VERSION:2.0
PRODID:-//Innovationsveckan - ECPv4.8.2//NONSGML v1.0//EN
CALSCALE:GREGORIAN
METHOD:PUBLISH
X-WR-CALNAME:Innovationsveckan
X-ORIGINAL-URL:https://innovationsveckan.nu
X-WR-CALDESC:Events for Innovationsveckan
BEGIN:VEVENT
DTSTART;TZID=Europe/Stockholm:20241001T090000
DTEND;TZID=Europe/Stockholm:20241001T100000
DTSTAMP:20260421T085053
CREATED:20240827T074155Z
LAST-MODIFIED:20240930T134159Z
UID:17921-1727773200-1727776800@innovationsveckan.nu
SUMMARY:Vi vet vilka som blir sjukskrivna pga. stress genom vårt test. Hur ska den kunskapen användas?
DESCRIPTION:En workshop där forskaren och arbetspsykologen Jens Näsström och Lina Novelind\, rektor i Strängnäs kommun\, presenterar hur vårt test hjälper arbetsgivare att arbeta proaktivt med att minska stressrelaterade sjukskrivningar. Som deltagare kommer du att få genomföra testet\, och en anonym presentation av deltagarnas resultat kommer att hållas i plenum. Vi kommer att interagera med publiken för att undersöka hur denna kunskap kan användas för att minska sjukskrivningarna i arbetslivet. \nProblemet\nSjukskrivningar på grund av stress har ökat dramatiskt under de senaste tio åren\, särskilt inom den offentliga sektorn. Behovet av förebyggande insatser är akut. Men hur förebygger man stress – på riktigt? \nDagens mest förekommande insatser är inspirationsföreläsningar och workshops på ett par timmar för alla medarbetare\, vilket sällan ger mätbara resultat. \nLösningen\nEn effektiv strategi för att förebygga stress bygger på två steg: \n1. Identifiera de som har en sårbarhet för stress.\n2. Rikta insatser mot att hjälpa dessa individer. \nVi har hittat ett effektivt och vetenskapligt validerat sätt att svara på den första frågan. (Ledtråd: det handlar om prestationsbaserad självkänsla\, särskilt hos perfektionister.) \nMen hur hjälper man dem? Den frågan vill vi arbeta med\, mycket konkret\, tillsammans med deltagarna i denna workshop. \nExempelvis:\n1. Var finns pengarna i en organisation eller ett företag för att finansiera det förebyggande arbetet?\n2. Ryms det ens inom en traditionell budget?\n3. Vad finns det för för- och nackdelar med att screena en arbetsplats för att identifiera de som har en sårbarhet för stress? Hur ska arbetsgivaren hantera denna information?\n4. Vad behöver man tänka på när man väljer förebyggande insatser? Vilka kan realistiskt sättas in? \n
URL:https://innovationsveckan.nu/program/vi-vet-vilka-som-blir-sjukskrivna-pga-stress-genom-vart-test-hur-ska-den-kunskapen-anvandas/
LOCATION:Vegagatan 14\, Vegagatan 14\, Stockholm\, Sverige
CATEGORIES:Ny produkt,Ny tjänst,Nytt arbetssätt,Verktyg och metoder
ATTACH;FMTTYPE=image/jpeg:https://innovationsveckan.nu/wp-content/uploads/2024/08/Jens-Format-IV.jpg
END:VEVENT
END:VCALENDAR