BEGIN:VCALENDAR
VERSION:2.0
PRODID:-//Innovationsveckan - ECPv4.8.2//NONSGML v1.0//EN
CALSCALE:GREGORIAN
METHOD:PUBLISH
X-WR-CALNAME:Innovationsveckan
X-ORIGINAL-URL:https://innovationsveckan.nu
X-WR-CALDESC:Events for Innovationsveckan
BEGIN:VEVENT
DTSTART;TZID=Europe/Stockholm:20231005T143000
DTEND;TZID=Europe/Stockholm:20231005T150000
DTSTAMP:20260419T142728
CREATED:20230926T082859Z
LAST-MODIFIED:20251009T195205Z
UID:17496-1696516200-1696518000@innovationsveckan.nu
SUMMARY:Vad är nyttan med att mäta regioners innovationsekosystem\, går det?
DESCRIPTION:Mätmodellen Metric\, Measurement of Regional Innovation Capacity\, har utvecklats tillsammans med innovationsforskare\, ett arbete som fortfarande pågår – nu i en uppskalad version tillsammans med andra regioner och Vinnova. Kom och lyssna till hur mätmodellen Metric har utvecklats och hur Region Västerbotten tänker att en mätning kan vara ett stöd för att utveckla innovationsekosystemet. \n
URL:https://innovationsveckan.nu/program/vad-ar-nyttan-med-att-mata-regioners-innovationsekosystem-gar-det/
LOCATION:Storgatan 65\, Storgatan 65\, Umeå\, Sverige
ATTACH;FMTTYPE=image/jpeg:https://innovationsveckan.nu/wp-content/uploads/2023/09/Mata-regioners-innovationsekosystem.jpg
END:VEVENT
END:VCALENDAR