BEGIN:VCALENDAR
VERSION:2.0
PRODID:-//Innovationsveckan - ECPv4.8.2//NONSGML v1.0//EN
CALSCALE:GREGORIAN
METHOD:PUBLISH
X-WR-CALNAME:Innovationsveckan
X-ORIGINAL-URL:https://innovationsveckan.nu
X-WR-CALDESC:Events for Innovationsveckan
BEGIN:VEVENT
DTSTART;TZID=Europe/Stockholm:20231004T143000
DTEND;TZID=Europe/Stockholm:20231004T153000
DTSTAMP:20260425T161855
CREATED:20230918T114545Z
LAST-MODIFIED:20241007T151740Z
UID:17266-1696429800-1696433400@innovationsveckan.nu
SUMMARY:One Stop Myndighetsshop: Myndigheter i samverkan för radikal innovation
DESCRIPTION:Se inspelningen från eventet här:\n \nNi kan även ladda ned presentationen som vi gav här: https://www.dropbox.com/scl/fi/oucuar8y892n65tmjvjtb/Innovationsveckan-One-stop-Myndighetsshop.pdf?rlkey=a746avvmpdslbjqvwpc97y038&dl=0 \nFör att uppnå målen i Agenda 2030 och Sveriges Livsmedelsstrategi finns det stora behov av att öka innovationshöjden i det svenska matsystemet. Detta kräver att vi myndigheter på ett mer effektivt sätt kan bemöta innovatörer\, hantera ärenden och ge besked om tillstånd för de företag som tar fram morgondagens lösningar där regelverk är svårtolkade eller under utveckling. Denna förflyttning kräver ett nytt arbetssätt\, kulturförändring och betydligt mer samverkan mellan myndigheter gällande regelutveckling\, regelförenkling och regeltolkning. \nUnder 2023 har representanter från Livsmedelsverket\, Jordbruksverket\, Länsstyrelsen VGR och Tillväxtverket ihop med innovativa sjömatsföretag gjort skarpa tester av en One stop myndighetsshop – en myndighetsöverskridande innovationsenhet för att testa nya arbetssätt. Vi har arbetat missions-orienterat med målet att skapa ökad innovationshöjd och stötta innovatörer som försöker revolutionera det svenska matsystemet. \nLiknande förflyttningar behövs även på andra policyområden och i denna presentation ger vi inspiration och insikter om HUR vi kan bygga dessa nya arbetssätt och kulturförändringar och vad som krävs för att lyckas bryta med inarbetade\, ineffektiva processer där vi är kvar i våra stuprör. \nDu får insikter som du kan ta med dig hem till din organisation\, dels om vilka vinster som dessa nya arbetssätt kan generera (både för både myndigheterna och innovatörerna) och dels vilka förutsättningarna för framgång som krävs. \n
URL:https://innovationsveckan.nu/program/one-stop-myndighetsshop-myndigheter-i-samverkan-for-radikal-innovation/
ATTACH;FMTTYPE=image/png:https://innovationsveckan.nu/wp-content/uploads/2023/09/Innovationsenheten-modellen-One-stop.png
END:VEVENT
END:VCALENDAR