BEGIN:VCALENDAR
VERSION:2.0
PRODID:-//Innovationsveckan - ECPv4.8.2//NONSGML v1.0//EN
CALSCALE:GREGORIAN
METHOD:PUBLISH
X-WR-CALNAME:Innovationsveckan
X-ORIGINAL-URL:https://innovationsveckan.nu
X-WR-CALDESC:Events for Innovationsveckan
BEGIN:VEVENT
DTSTART;TZID=Europe/Stockholm:20241002T081500
DTEND;TZID=Europe/Stockholm:20241002T090000
DTSTAMP:20260425T161801
CREATED:20240924T152937Z
LAST-MODIFIED:20251009T195033Z
UID:18419-1727856900-1727859600@innovationsveckan.nu
SUMMARY:Utmaningar\, möjligheter och hävstänger – Matmiljöernas potential i omställningen
DESCRIPTION:År 2033 säkrar Sveriges publika matmiljöer människans\, samhällets och naturens behov. Så lyder innovationsplattformens mission. Under webbinariet presenterar vi en illustrativ systemkarta över dagens matmiljöer och fokuserar på några av de centrala delarna av kartan\, såsom tematiska indelningar av matmiljöer\, strategiska hävstänger för förändring och de önskade utkomsterna. \nFör att ta arbetet vidare söker vi nu idéer till prototyper eller befintliga projekt som kan bana väg för framtidens hållbara och hälsosamma matmiljöer. Tillsammans påbörjar vi nu resan mot morgondagens lösningar! \nSystemkartan har utvecklats av kärnteamet bakom innovationsplattformen Mission Matmiljö\, i samarbete med en rad kunniga och erfarna aktörer från olika matmiljöer samt designbyrån Antrop. Kärnteamet består av WWF Sverige\, Reformaten\, Organic Sweden och MatLust Utvecklingsnod/Södertälje kommun. Innovationsplattformen finansieras av Vinnova. \n
URL:https://innovationsveckan.nu/program/utmaningar-mojligheter-och-havstanger-matmiljoernas-potential-i-omstallningen/
CATEGORIES:Nytt arbetssätt,Omställning,Verktyg och metoder
ATTACH;FMTTYPE=image/jpeg:https://innovationsveckan.nu/wp-content/uploads/2024/09/Illustration-av-matmiljoer-scaled.jpg
END:VEVENT
END:VCALENDAR