BEGIN:VCALENDAR
VERSION:2.0
PRODID:-//Innovationsveckan - ECPv4.8.2//NONSGML v1.0//EN
CALSCALE:GREGORIAN
METHOD:PUBLISH
X-WR-CALNAME:Innovationsveckan
X-ORIGINAL-URL:https://innovationsveckan.nu
X-WR-CALDESC:Events for Innovationsveckan
BEGIN:VEVENT
DTSTART;TZID=Europe/Stockholm:20240930T120000
DTEND;TZID=Europe/Stockholm:20240930T123000
DTSTAMP:20260425T161641
CREATED:20240911T075819Z
LAST-MODIFIED:20241003T133909Z
UID:18219-1727697600-1727699400@innovationsveckan.nu
SUMMARY:Tillsammans från början - Att samlas kring en samhällsutmaning\, klimatkontrakt på export
DESCRIPTION:\n\nIdag är 23 svenska städer och deras partners engagerade i missionen på Klimatneutrala städer 2030 och “Klimatkontrakt 2030”. Satsningen har blivit en internationell förebild som visar att det är möjligt att mobilisera städer i ett brett partnerskap mellan företag\, akademi\, offentliga verksamheter och civilsamhälle för att snabba på omställningen. \nKlimatkontraktet är ett nytt och innovativt instrument som bygger en långsiktig strategisk process från lokal till internationell nivå utifrån den gemensamma satsningen på klimatneutrala och hållbara städer 2030. Hela processen bygger en allt starkare mobilisering av ekosystem av aktörer och insatser och stärker kontinuerligt den gemensamma förmågan till snabbare omställning. \nVi får höra programchef Olga Kordas berätta om Viable Cities erfarenheter och lärdomar om hur man kan samlas kring en samhällsutmaning och dessutom se till att den exporteras till andra länder. Vilka nyckelfaktorer har bidragit till spridning och på vilket sätt har det varit ett tillsammansskapande? \nViable Cities är partner till innovationsveckan och deras syfte är att skapa transformativ systemförändring utifrån missionen Klimatneutrala städer 2030 med ett gott liv för alla inom planetens gränser \n\n  \nDet här seminariet är en del av programmet Tillsammans från Början \nInnovationsveckans initiativtagare Vinnova\, Upphandlingsmyndigheten och SKR bjuder tillsammans med veckans partner Viable Cities\, AI Sweden och SustainGov in till programmet Tillsammans från början den 30/9. Under dagen kommer vi att belysa olika aspekter av förutsättningar för spridning och skalning. Vilka förutsättningar behövs i systemet som helhet? Hur behöver varje organisation redogöra sig för att sprida sina egna lösningar\, men också för att återbruka andras nya lösningar och arbetssätt? Hur blir spridning och skalning en naturlig del av framtidens innovativa och omtänksamma välfärd? Finns det smartare sätt än att sprida och skala färdiga lösningar\, kanske genom att göra tillsammans från början? Beskrivning av hela programmet hittar du här \n
URL:https://innovationsveckan.nu/program/tillsammans-fran-borjan-att-samlas-kring-en-samhallsutmaning/
CATEGORIES:Leda och organisera,Mäta och följa upp,Nytt arbetssätt,Omställning,Verktyg och metoder
END:VEVENT
END:VCALENDAR