BEGIN:VCALENDAR
VERSION:2.0
PRODID:-//Innovationsveckan - ECPv4.8.2//NONSGML v1.0//EN
CALSCALE:GREGORIAN
METHOD:PUBLISH
X-WR-CALNAME:Innovationsveckan
X-ORIGINAL-URL:https://innovationsveckan.nu
X-WR-CALDESC:Events for Innovationsveckan
BEGIN:VEVENT
DTSTART;TZID=Europe/Stockholm:20231005T100000
DTEND;TZID=Europe/Stockholm:20231005T110000
DTSTAMP:20260419T143026
CREATED:20230922T072143Z
LAST-MODIFIED:20241007T151740Z
UID:17180-1696500000-1696503600@innovationsveckan.nu
SUMMARY:Innovation i kommuner och regioner – Vart står vi? Vart går vi?
DESCRIPTION:I början av 2000-talet var offentliga sektorns perspektiv nära nog osynligt i samhällets diskussion kring innovation. Sakta förändrades detta. Under 2010-talet tillsattes utredningar\, nya förvaltningspolitiska mål infördes\, Vinnova och SKR samarbetade för att öka förmågan till innovation i offentlig verksamhet. Kapaciteten att arbeta med innovation förstärktes i kommuner\, regioner och statliga myndigheter. Testmiljöer etablerades\, innovationsupphandlingar testades\, tjänstedesign omfamnades. \nNu står kommuner och regioner inför ett decennium av stora utmaningar när det gäller personal\, ekonomi och ökade behov och förväntningar från medborgare. Ekvationen är svår att lösa. Digitaliseringen ses som en frälsare och en del av lösningen. Även om teknik kan tas oss lång så behöver vi innovera för att fortsätta utveckla vår demokrati\, våra samhällstjänster och vår gemensamma välfärd. \nI denna workshop vill vi ha hjälp av dig som arbetar med verksamhetsutveckling i kommun eller region att identifiera behov som SKR bör fokusera på i arbetet mot den nya djärva visionen. \n
URL:https://innovationsveckan.nu/program/innovation-i-kommuner-och-regioner-vart-star-vi-vart-gar-vi/
ATTACH;FMTTYPE=image/jpeg:https://innovationsveckan.nu/wp-content/uploads/2023/09/Hander.jpg
END:VEVENT
END:VCALENDAR