BEGIN:VCALENDAR
VERSION:2.0
PRODID:-//Innovationsveckan - ECPv4.8.2//NONSGML v1.0//EN
CALSCALE:GREGORIAN
METHOD:PUBLISH
X-WR-CALNAME:Innovationsveckan
X-ORIGINAL-URL:https://innovationsveckan.nu
X-WR-CALDESC:Events for Innovationsveckan
BEGIN:VEVENT
DTSTART;TZID=Europe/Stockholm:20231003T150000
DTEND;TZID=Europe/Stockholm:20231003T160000
DTSTAMP:20260425T161530
CREATED:20230921T060150Z
LAST-MODIFIED:20241007T151742Z
UID:17372-1696345200-1696348800@innovationsveckan.nu
SUMMARY:Impact Innovation – så får vi till systemomställning i praktiken
DESCRIPTION:Impact Innovation är namnet på Sveriges nästa stora innovationssatsning med sikte mot 2030-talet. En strategisk och långsiktig kraftsamling där vi tillsammans löser globala samhällsutmaningar. Upp till fem program kommer att starta i mars 2024. \nAlla program samlas kring varsitt utmaningsmål\, en mission\, som en grupp aktörer tar fram tillsammans. För att programmen ska bli framgångsrika krävs att aktörskonstellationerna är breda. Aktörer från såväl näringsliv som\, akademi\, offentlig sektor och civilsamhället behöver engageras. \nVad kan vi lära oss av Danmark? \nFör ett år sedan lanserades en satsning i Danmark som har många likheter med Impact Innovation. Ett innovationsprogram som använder missions som metod för att ställa om tillverkningsindustrin ”Decoupling 2030”. Hur har första året varit och vad kan vi lära oss? Christian Bason från Danish Design Center medverkar. \nFör att driva den samhällsförändring som krävs för att för att uppnå hållbar utveckling är engagemanget från offentliga aktörer nödvändig\, inte minst i frågor om styrning och regelverk. Vad behövs för att innovationskraften i det offentliga ska utnyttjas fullt ut i en så omfattande satsning som Impact Innovation? \nMedverkande:\n• Christian Bason\, Danish Design Center\n• Jakob Hellman\, Rädda Barnen\n• Tomas Bokström\, RISE\n• Jenny Elfsberg\, Vinnova (styrgruppen för Impact Innovation)\nModerator: Judit Wefer\, Formas \nMyndigheterna Energimyndigheten\, Formas och Vinnova har ett regeringsuppdrag att utveckla nästa generations strategiska innovationsprogram\, Impact Innovation. \n
URL:https://innovationsveckan.nu/program/impact-innovation-sa-far-vi-till-systemomstallning-i-praktiken/
LOCATION:Mäster Samuelsgatan 56\, Mäster Samuelsgatan 56\, Stockholm\, Sverige
ATTACH;FMTTYPE=image/png:https://innovationsveckan.nu/wp-content/uploads/2023/09/ii_some_template_wide_green_blue_imagetext-1.png
END:VEVENT
END:VCALENDAR