BEGIN:VCALENDAR
VERSION:2.0
PRODID:-//Innovationsveckan - ECPv4.8.2//NONSGML v1.0//EN
CALSCALE:GREGORIAN
METHOD:PUBLISH
X-WR-CALNAME:Innovationsveckan
X-ORIGINAL-URL:https://innovationsveckan.nu
X-WR-CALDESC:Events for Innovationsveckan
BEGIN:VEVENT
DTSTART;TZID=Europe/Stockholm:20241001T100000
DTEND;TZID=Europe/Stockholm:20241001T111500
DTSTAMP:20260425T160723
CREATED:20240830T063935Z
LAST-MODIFIED:20241002T123953Z
UID:18036-1727776800-1727781300@innovationsveckan.nu
SUMMARY:Från 1-100
DESCRIPTION:I ett seminarium om skalning och spridning av innovation samlar vi företrädare från lokal och nationell nivå för att utbyta erfarenheter\, dela goda exempel och tillsammans formulera förslag på hur vi accelererar vår förmåga att skala och sprida innovativa lösningar för mesta möjliga samhällsnytta. Vi utgår från erfarenheterna av samarbete mellan offentliga beställare och små innovativa bolag. Tillsammans diskuterar vi hur lösningar som utvecklats i en miljö kan växlas upp och användas av många fler. \n
URL:https://innovationsveckan.nu/program/fran-1-100/
CATEGORIES:Ny produkt,Ny tjänst,Nytt arbetssätt,Upphandling
ATTACH;FMTTYPE=image/jpeg:https://innovationsveckan.nu/wp-content/uploads/2024/08/ringar-pa-vatten.jpg
END:VEVENT
END:VCALENDAR