BEGIN:VCALENDAR
VERSION:2.0
PRODID:-//Innovationsveckan - ECPv4.8.2//NONSGML v1.0//EN
CALSCALE:GREGORIAN
METHOD:PUBLISH
X-WR-CALNAME:Innovationsveckan
X-ORIGINAL-URL:https://innovationsveckan.nu
X-WR-CALDESC:Events for Innovationsveckan
BEGIN:VEVENT
DTSTART;TZID=Europe/Stockholm:20241004T110000
DTEND;TZID=Europe/Stockholm:20241004T120000
DTSTAMP:20260425T162145
CREATED:20240920T062832Z
LAST-MODIFIED:20251009T194933Z
UID:18321-1728039600-1728043200@innovationsveckan.nu
SUMMARY:Framtidens resa med Östgötatrafiken – “Tillsammans driver vi utvecklingen mot en hållbar framtid”
DESCRIPTION:Välkommen på webbinarium med Östgötatrafiken som berättar om sin AI-resa och hur det är att vara medlem i AI Sweden. Vi kommer få höra hur Östgötatrafiken har blivit bättre på att använda AI och hur det kan användas i deras verksamhet. De kommer också berätta hur de jobbar med datadrivna arbetssätt. \nSara Karlsson från AI Sweden är moderator för detta webinar\, som vänder sig till dig som verkar i offentlig sektor. Från Östgötatrafiken medverkar Carin Carelind och Therese Furhoff. Carin är IT-chef med ansvar för Östgötatrafikens IT-strategi samt för områdena öppna data och digitala innovationssamarbeten. Therese är stabschef och chef för Affärsstödsavdelningen Östgötatrafiken. Hon ansvarar för Östgötatrafikens övergripande organisations- och verksamhetsutveckling samt verksamhetsstöd. \nVarmt välkommen att lyssna in på detta webinar och ta del av de erfarenheter som gjorts hos Östgötatrafiken och hur organisationen ökat sin AI-mognad. \n
URL:https://innovationsveckan.nu/program/framtidens-resa-med-ostgotatrafiken-tillsammans-driver-vi-utvecklingen-mot-en-hallbar-framtid/
CATEGORIES:Leda och organisera,Nytt arbetssätt,Övrigt
ATTACH;FMTTYPE=image/jpeg:https://innovationsveckan.nu/wp-content/uploads/2024/09/ostgotatrafiken-event2-1797x1200-2.jpg
END:VEVENT
END:VCALENDAR