BEGIN:VCALENDAR
VERSION:2.0
PRODID:-//Innovationsveckan - ECPv4.8.2//NONSGML v1.0//EN
CALSCALE:GREGORIAN
METHOD:PUBLISH
X-WR-CALNAME:Innovationsveckan
X-ORIGINAL-URL:https://innovationsveckan.nu
X-WR-CALDESC:Events for Innovationsveckan
BEGIN:VEVENT
DTSTART;TZID=Europe/Stockholm:20231006T130000
DTEND;TZID=Europe/Stockholm:20231006T140000
DTSTAMP:20260419T142929
CREATED:20230925T121014Z
LAST-MODIFIED:20241007T151739Z
UID:17455-1696597200-1696600800@innovationsveckan.nu
SUMMARY:Följ med Kävlinge på resan mot nya måltidskoncept för äldre.
DESCRIPTION:Äldre som kommer hem från en sjukhusvistelse kan ofta ha smärta\, temporära eller permanenta funktionsnedsättningar som påverkar deras livssituation. Ofta innebär en sjukhusvistelse också en förändring för hur livet kan levas direkt efter hemkomst. Det kan handla om att ha svårt att göra saker som att kunna gå ut och handla eller själv förflytta sig inomhus. Många upplever oro och osäkerhet om hur de ska kunna hantera vardagssysslor. Sammantaget kan allt detta försvåra tillfrisknandet och möjligheten till en god konvalescens. Maten och måltiden är ofta en annan källa till oro\, om man inte vet om det finns något i kylskåpet eller om man tvivlar på om man själv kan laga eller tillreda mat. Maten är väldigt viktig för ett snabbt tillfrisknande. Brist på mat kan dessutom leda till undernäring\, det kan gå mycket fort om man redan är skör. \nProgram \nMåltidsutvecklarna Malin Nilsson och Ellen Hugosson berättar om hur de båda måltidskoncepten genomfördes i projektform\, om resultat och hur de sedan resulterade i fast verksamhet. \nEnhetschef Luiza Gashi och undersköterska Rose-Marie Skoglund i hemtagningsteamet delar med sig av sina lärdomar från måltidstjänsten vid hemkomst från sjukhus. \nMåltidschef Jens Modeer berättar om den politiska viljan och samverkan inom kommunen.\nModerator: Per Simonson \n
URL:https://innovationsveckan.nu/program/folj-med-kavlinge-pa-resan-mot-nya-maltidskoncept-for-aldre/
ATTACH;FMTTYPE=image/jpeg:https://innovationsveckan.nu/wp-content/uploads/2023/09/Webinarie-6-oktober-2023.jpg
END:VEVENT
END:VCALENDAR