BEGIN:VCALENDAR
VERSION:2.0
PRODID:-//Innovationsveckan - ECPv4.8.2//NONSGML v1.0//EN
CALSCALE:GREGORIAN
METHOD:PUBLISH
X-WR-CALNAME:Innovationsveckan
X-ORIGINAL-URL:https://innovationsveckan.nu
X-WR-CALDESC:Events for Innovationsveckan
BEGIN:VEVENT
DTSTART;TZID=Europe/Stockholm:20241001T100000
DTEND;TZID=Europe/Stockholm:20241001T105000
DTSTAMP:20260419T143947
CREATED:20240911T083231Z
LAST-MODIFIED:20240911T083231Z
UID:18174-1727776800-1727779800@innovationsveckan.nu
SUMMARY:Etisk och demokratisk AI-utveckling
DESCRIPTION:Tillsammans med projekt inom “Kraftsamling för Ai kommuner och civilsamhälle” utforskar vi hur kommuner kan leda AI-innovation samtidigt som de uppfyller höga krav på etik och samhällsnytta. Värmdö kommun automatiserar socialsekreterarnas arbete för att frigöra tid till viktigare uppgifter\, och Tomelilla kommun använder AI för att göra kommunens beslut mer tillgängliga för invånarna. Vi kommer att diskutera hur kommunerna lyckas balansera innovation med rättssäkerhet och engagemang från medborgarna. \n
URL:https://innovationsveckan.nu/program/etisk-och-demokratisk-ai-utveckling/
CATEGORIES:Nytt arbetssätt,Verktyg och metoder
ATTACH;FMTTYPE=image/jpeg:https://innovationsveckan.nu/wp-content/uploads/2024/09/Bild2.jpeg
END:VEVENT
END:VCALENDAR