BEGIN:VCALENDAR
VERSION:2.0
PRODID:-//Innovationsveckan - ECPv4.8.2//NONSGML v1.0//EN
CALSCALE:GREGORIAN
METHOD:PUBLISH
X-WR-CALNAME:Innovationsveckan
X-ORIGINAL-URL:https://innovationsveckan.nu
X-WR-CALDESC:Events for Innovationsveckan
BEGIN:VEVENT
DTSTART;TZID=Europe/Stockholm:20241004T130000
DTEND;TZID=Europe/Stockholm:20241004T133000
DTSTAMP:20260425T161330
CREATED:20240922T071447Z
LAST-MODIFIED:20251009T194914Z
UID:18437-1728046800-1728048600@innovationsveckan.nu
SUMMARY:Cybernoden driver innovation inom cybersäkerhet – bli medlem!
DESCRIPTION:Cybernoden drivs av RISE på uppdrag av MSB och NCC-SE\, Sveriges samordningscenter och nationella kompetensgemenskap för forskning och innovation inom cybersäkerhet\nNCC-SE främjar samarbete mellan svenska forskningsinstitut\, företag och myndigheter för utveckling av cybersäkerhetslösningar. Tillsammans med NCC-SE utgör Cybernoden en nationell arena som samlar aktörer inom det svenska ekosystemet. Hör mer om hur Sveriges kompetensgemenskap och EU-finansiering kan bidra till att möjliggöra forskning och innovation\, och hur du kan bli en del av lösningen! \n
URL:https://innovationsveckan.nu/program/cybernoden-driver-innovation-inom-cybersakerhet-bli-medlem/
CATEGORIES:Leda och organisera,Ny produkt,Ny tjänst,Nytt arbetssätt,Övrigt
ATTACH;FMTTYPE=image/jpeg:https://innovationsveckan.nu/wp-content/uploads/2024/09/Cybernode-ny-logga-221201.jpg
END:VEVENT
END:VCALENDAR