BEGIN:VCALENDAR
VERSION:2.0
PRODID:-//Innovationsveckan - ECPv4.8.2//NONSGML v1.0//EN
CALSCALE:GREGORIAN
METHOD:PUBLISH
X-WR-CALNAME:Innovationsveckan
X-ORIGINAL-URL:https://innovationsveckan.nu
X-WR-CALDESC:Events for Innovationsveckan
BEGIN:VEVENT
DTSTART;TZID=Europe/Stockholm:20240930T130000
DTEND;TZID=Europe/Stockholm:20240930T143000
DTSTAMP:20260421T085453
CREATED:20240922T072022Z
LAST-MODIFIED:20240922T072022Z
UID:18187-1727701200-1727706600@innovationsveckan.nu
SUMMARY:Att designa ett innovationslabb tillsammans med praoelever
DESCRIPTION:Socialstyrelsen delar med sig av det interna delaktighetsarbetet vi bedriver inom området barn och unga. En del av det är de praoveckor och innovationslabb som vi genomfört tillsammans med unga kopplade till några av våra regeringsuppdrag. Vi visar på olika former av direktdialog och hur vi tar del av elevernas synpunkter på delar av vårt arbete. Vad tycker eleverna om sin praotid på Socialstyrelsen? Och vad är egentligen ett innovationslabb med praoelever? I sändningen medverkar eleverna via länk från sin skola – Smedshagsskolan. \n
URL:https://innovationsveckan.nu/program/att-designa-ett-innovationslabb-tillsammans-med-praoelever/
CATEGORIES:Nytt arbetssätt,Verktyg och metoder
ATTACH;FMTTYPE=image/jpeg:https://innovationsveckan.nu/wp-content/uploads/2024/09/Kompishjalpen.jpg
END:VEVENT
END:VCALENDAR